BEGIN:VCALENDAR
VERSION:2.0
PRODID:-//Finca Solvana - ECPv6.15.15//NONSGML v1.0//EN
CALSCALE:GREGORIAN
METHOD:PUBLISH
X-WR-CALNAME:Finca Solvana
X-ORIGINAL-URL:https://www.fincasolvana.com/en
X-WR-CALDESC:Events for Finca Solvana
REFRESH-INTERVAL;VALUE=DURATION:PT1H
X-Robots-Tag:noindex
X-PUBLISHED-TTL:PT1H
BEGIN:VTIMEZONE
TZID:Europe/Madrid
BEGIN:DAYLIGHT
TZOFFSETFROM:+0100
TZOFFSETTO:+0200
TZNAME:CEST
DTSTART:20240331T010000
END:DAYLIGHT
BEGIN:STANDARD
TZOFFSETFROM:+0200
TZOFFSETTO:+0100
TZNAME:CET
DTSTART:20241027T010000
END:STANDARD
BEGIN:DAYLIGHT
TZOFFSETFROM:+0100
TZOFFSETTO:+0200
TZNAME:CEST
DTSTART:20250330T010000
END:DAYLIGHT
BEGIN:STANDARD
TZOFFSETFROM:+0200
TZOFFSETTO:+0100
TZNAME:CET
DTSTART:20251026T010000
END:STANDARD
BEGIN:DAYLIGHT
TZOFFSETFROM:+0100
TZOFFSETTO:+0200
TZNAME:CEST
DTSTART:20260329T010000
END:DAYLIGHT
BEGIN:STANDARD
TZOFFSETFROM:+0200
TZOFFSETTO:+0100
TZNAME:CET
DTSTART:20261025T010000
END:STANDARD
END:VTIMEZONE
BEGIN:VEVENT
DTSTART;TZID=Europe/Madrid:20250801T210000
DTEND;TZID=Europe/Madrid:20250801T233000
DTSTAMP:20260424T004504
CREATED:20250711T105446Z
LAST-MODIFIED:20250711T105446Z
UID:791-1754082000-1754091000@www.fincasolvana.com
SUMMARY:CENA DE VERANO ALHAURIN DE LA TORRE
DESCRIPTION:El próximo 01 de agosto a las 21:00 h\, en el emblemático entorno de Finca Solvana\, celebramos la Cena de Verano contra el Cáncer\, una cena benéfica con un propósito muy especial: recaudar fondos para apoyar a las personas con cáncer y sus familiares\, y crear una comunidad unida frente a la enfermedad. \nEsta edición todo lo recaudado durante la gala se destinará a financiar programas de investigación\, prevención y apoyo integral\, con el fin de mejorar la calidad de vida de quienes padecen la enfermedad. \nCon tu entrada\, disfrutarás de una cena tipo coctel\, sorpresas que harán de esta noche algo inolvidable\, rifa y la actuación del grupo Retro Cover Band \nDéjate sorprender \nMarca la fecha en tu agenda y acompáñanos en esta gran cita solidaria. Una ocasión única para mostrar tu compromiso contra el cáncer mientras vives una experiencia inolvidable. \nJuntos\, podemos alcanzar un 70% de supervivencia en cáncer para 2030.
URL:https://www.fincasolvana.com/en/evento/cena-de-verano-alhaurin-de-la-torre/
LOCATION:Finca Solvana\, Carretera vieja de Ronda km 86\, Alhauriín de la Torre\, Málaga\, 29130\, Spain
ATTACH;FMTTYPE=image/jpeg:https://www.fincasolvana.com/wp-content/uploads/2025/07/cartel_gala_solidaria.jpg
ORGANIZER;CN="ASOCIACION ESPA%C3%91OLA CONTRA EL C%C3%81NCER | ALHAURIN DE LA TORRE":MAILTO:informacion@contraelcancer.es
END:VEVENT
BEGIN:VEVENT
DTSTART;TZID=Europe/Madrid:20250815T210000
DTEND;TZID=Europe/Madrid:20250815T233000
DTSTAMP:20260424T004504
CREATED:20250803T132912Z
LAST-MODIFIED:20250803T144426Z
UID:797-1755291600-1755300600@www.fincasolvana.com
SUMMARY:SOMOS – Lounge Garden - DJ MAOC
DESCRIPTION:SOMOS – Terraza\, música en vivo y copas \nDJ Maoc en directo – Vive el atardecer con la mejor música del momento \nEl sabado 15 de agosto tienes una cita con la música. Desde las 21:00 hasta las 2:00\, DJ Maoc toma los mandos para llevarte en un viaje sonoro que empieza con el sol cayendo y acaba con el alma vibrando. \nUn evento al aire libre\, buen ambiente\, copas\, amigos… y un set que no olvidarás. \n¿Te lo vas a perder?\nPlazas limitadas – consigue tu entrada ya. \nTu primera copa\, incluida con la entrada \nCompra tu entrada anticipada y únete a la experiencia.\nPorque somos música\, somos sabor\, somos verano. \n  \nCOMPRA AQUÍ TU ENTRADA\n  \n 
URL:https://www.fincasolvana.com/en/evento/somos-lounge-garden-dj-maoc/
LOCATION:Finca Solvana\, Carretera vieja de Ronda km 86\, Alhauriín de la Torre\, Málaga\, 29130\, Spain
ATTACH;FMTTYPE=image/jpeg:https://www.fincasolvana.com/wp-content/uploads/2025/08/cartel_15_agosto.jpg
END:VEVENT
BEGIN:VEVENT
DTSTART;TZID=Europe/Madrid:20250822T210000
DTEND;TZID=Europe/Madrid:20250822T233000
DTSTAMP:20260424T004504
CREATED:20250818T193703Z
LAST-MODIFIED:20250818T193703Z
UID:805-1755896400-1755905400@www.fincasolvana.com
SUMMARY:SOMOS – Lounge Garden - La Negra Mayte
DESCRIPTION:SOMOS – Terraza\, música en vivo y copas \nLa Negra Maite en directo – Vive el atardecer con la mejor música del momento \nEl Viernes 22 de agosto tienes una cita con la música. Desde las 21:00 hasta las 2:00\, La Negra Maite toma los mandos para llevarte en un viaje sonoro que empieza con el sol cayendo y acaba con el alma vibrando. \nUn evento al aire libre\, buen ambiente\, copas\, amigos… y un set que no olvidarás. \n¿Te lo vas a perder? \nPlazas limitadas – consigue tu entrada ya. \nTu primera copa\, incluida con la entrada \nCompra tu entrada anticipada y únete a la experiencia. \nPorque somos música\, somos sabor\, somos verano. \n  \nCOMPRA AQUÍ TU ENTRADA\n  \n 
URL:https://www.fincasolvana.com/en/evento/somos-lounge-garden-la-negra-mayte/
LOCATION:Finca Solvana\, Carretera vieja de Ronda km 86\, Alhauriín de la Torre\, Málaga\, 29130\, Spain
ATTACH;FMTTYPE=image/jpeg:https://www.fincasolvana.com/wp-content/uploads/2025/08/evento_la_negra.jpg
END:VEVENT
BEGIN:VEVENT
DTSTART;TZID=Europe/Madrid:20250829T220000
DTEND;TZID=Europe/Madrid:20250829T233000
DTSTAMP:20260424T004504
CREATED:20250825T142003Z
LAST-MODIFIED:20250825T142319Z
UID:835-1756504800-1756510200@www.fincasolvana.com
SUMMARY:SOMOS – Lounge Garden - The Vintage Experience
DESCRIPTION:SOMOS – Terraza\, música en vivo y copas \nTHE VINTAGE EXPERIENCE en directo – Vive lo mejor de los años 20! \nEl Viernes 29 de agosto tienes una cita con la música. Desde las 22:00 hasta las 2:00\, THE VINTAGE EXPERIENCE toma los mandos para llevarte en un viaje sonoro de los años 20 que no olvidarás. \nUn evento al aire libre\, buen ambiente\, copas\, amigos… \n¿Te lo vas a perder? \nPlazas limitadas – consigue tu entrada ya. \nTu primera copa\, incluida con la entrada \nCompra tu entrada anticipada y únete a la experiencia. \nPorque somos música\, somos experiencias\, somos vida. \nCOMPRA AQUÍ TU ENTRADA\n  \n 
URL:https://www.fincasolvana.com/en/evento/somos-lounge-garden-the-vintage-experience/
LOCATION:Finca Solvana\, Carretera vieja de Ronda km 86\, Alhauriín de la Torre\, Málaga\, 29130\, Spain
ATTACH;FMTTYPE=image/jpeg:https://www.fincasolvana.com/wp-content/uploads/2025/08/the_vintage_experience.jpg
END:VEVENT
END:VCALENDAR