BEGIN:VCALENDAR
VERSION:2.0
PRODID:-//Finca Solvana - ECPv6.15.15//NONSGML v1.0//EN
CALSCALE:GREGORIAN
METHOD:PUBLISH
X-ORIGINAL-URL:https://www.fincasolvana.com
X-WR-CALDESC:Eventos para Finca Solvana
REFRESH-INTERVAL;VALUE=DURATION:PT1H
X-Robots-Tag:noindex
X-PUBLISHED-TTL:PT1H
BEGIN:VTIMEZONE
TZID:Europe/Madrid
BEGIN:DAYLIGHT
TZOFFSETFROM:+0100
TZOFFSETTO:+0200
TZNAME:CEST
DTSTART:20240331T010000
END:DAYLIGHT
BEGIN:STANDARD
TZOFFSETFROM:+0200
TZOFFSETTO:+0100
TZNAME:CET
DTSTART:20241027T010000
END:STANDARD
BEGIN:DAYLIGHT
TZOFFSETFROM:+0100
TZOFFSETTO:+0200
TZNAME:CEST
DTSTART:20250330T010000
END:DAYLIGHT
BEGIN:STANDARD
TZOFFSETFROM:+0200
TZOFFSETTO:+0100
TZNAME:CET
DTSTART:20251026T010000
END:STANDARD
BEGIN:DAYLIGHT
TZOFFSETFROM:+0100
TZOFFSETTO:+0200
TZNAME:CEST
DTSTART:20260329T010000
END:DAYLIGHT
BEGIN:STANDARD
TZOFFSETFROM:+0200
TZOFFSETTO:+0100
TZNAME:CET
DTSTART:20261025T010000
END:STANDARD
END:VTIMEZONE
BEGIN:VEVENT
DTSTART;TZID=Europe/Madrid:20250705T200000
DTEND;TZID=Europe/Madrid:20250705T233000
DTSTAMP:20260423T210541
CREATED:20250702T093032Z
LAST-MODIFIED:20250702T151935Z
UID:719-1751745600-1751758200@www.fincasolvana.com
SUMMARY:SOMOS – Lounge Garden - Copa incluida
DESCRIPTION:SOMOS – Terraza\, música en vivo y copas \nVen a disfrutar de una tarde-noche diferente en nuestra terraza lounge garden con música en vivo\, copas al atardecer\, delicias para picotear y un ambiente mágico. \nAtardeceres con alma\nArtistas en directo y DJs\nUn jardín donde el tiempo se detiene\nTu primera copa\, incluida con la entrada \nCompra tu entrada anticipada y únete a la experiencia.\nPorque somos música\, somos sabor\, somos verano. \n  \nPolítica de acceso \n\nSolo se permite el acceso con entrada o código válido y pulsera o sello identificativo puesto en el recinto. \nEl acceso está limitado a mayores de 18 años\, que deben presentar DNI o pasaporte. \nProhibido el acceso a: \n–  Drogas\, armas\, objetos punzantes. \n–  Bebidas o comida propias (salvo en casos especiales). \n–  Cámaras profesionales (salvo acreditación). \nLa organización se reserva el derecho de admisión y expulsión por comportamiento inapropiado o incumplimiento de normas. \nEl acceso comienza en la hora oficial del evento: no se permitirá el ingreso antes. \nEl recinto abrirá 30 minutos antes para control de acceso y acomodación y cerrará sus puertas a las 2:00 \nEstá prohibido fumar dentro del recinto interior; existen zonas habilitadas fuera. \nEn caso de emergencia\, sigue las indicaciones del personal de seguridad. \nNo nos hacemos responsables de pérdida de objetos personales. \nLa entrada implica autorización para el uso de imágenes o vídeos en redes sociales\, web y material promocional. \nSi no deseas aparecer\, notifícalo al personal al llegar.
URL:https://www.fincasolvana.com/evento/somos-lounge-garden-copa-incluida/
LOCATION:Finca Solvana\, Carretera vieja de Ronda km 86\, Alhauriín de la Torre\, Málaga\, 29130\, Spain
ATTACH;FMTTYPE=image/jpeg:https://www.fincasolvana.com/wp-content/uploads/2025/07/Imagen-de-WhatsApp-2025-07-01-a-las-13.32.52_7620f1d5.jpg
END:VEVENT
END:VCALENDAR