BEGIN:VCALENDAR
VERSION:2.0
PRODID:-//Finca Solvana - ECPv6.15.15//NONSGML v1.0//EN
CALSCALE:GREGORIAN
METHOD:PUBLISH
X-WR-CALNAME:Finca Solvana
X-ORIGINAL-URL:https://www.fincasolvana.com
X-WR-CALDESC:Eventos para Finca Solvana
REFRESH-INTERVAL;VALUE=DURATION:PT1H
X-Robots-Tag:noindex
X-PUBLISHED-TTL:PT1H
BEGIN:VTIMEZONE
TZID:Europe/Madrid
BEGIN:DAYLIGHT
TZOFFSETFROM:+0100
TZOFFSETTO:+0200
TZNAME:CEST
DTSTART:20240331T010000
END:DAYLIGHT
BEGIN:STANDARD
TZOFFSETFROM:+0200
TZOFFSETTO:+0100
TZNAME:CET
DTSTART:20241027T010000
END:STANDARD
BEGIN:DAYLIGHT
TZOFFSETFROM:+0100
TZOFFSETTO:+0200
TZNAME:CEST
DTSTART:20250330T010000
END:DAYLIGHT
BEGIN:STANDARD
TZOFFSETFROM:+0200
TZOFFSETTO:+0100
TZNAME:CET
DTSTART:20251026T010000
END:STANDARD
BEGIN:DAYLIGHT
TZOFFSETFROM:+0100
TZOFFSETTO:+0200
TZNAME:CEST
DTSTART:20260329T010000
END:DAYLIGHT
BEGIN:STANDARD
TZOFFSETFROM:+0200
TZOFFSETTO:+0100
TZNAME:CET
DTSTART:20261025T010000
END:STANDARD
END:VTIMEZONE
BEGIN:VEVENT
DTSTART;TZID=Europe/Madrid:20250905T220000
DTEND;TZID=Europe/Madrid:20250905T233000
DTSTAMP:20260421T100153
CREATED:20250829T160022Z
LAST-MODIFIED:20250829T160318Z
UID:854-1757109600-1757115000@www.fincasolvana.com
SUMMARY:SOMOS – Lounge Garden - Retro Cover Band
DESCRIPTION:SOMOS – Terraza\, música en vivo y copas \nRETRO COVER BAND en directo – Vive la mejor música en Finca Solvana! \nEl Viernes 5 de septiembre tienes una cita con la música. Desde las 22:00 hasta las 2:00\, RETRO COVER BAND toma los mandos para llevarte en un viaje sonoro que no olvidarás. \nUn evento al aire libre\, buen ambiente\, copas\, amigos… \n¿Te lo vas a perder? \nPlazas limitadas – consigue tu entrada ya. \nTu primera copa\, incluida con la entrada \nCompra tu entrada anticipada y únete a la experiencia. \nPorque somos música\, somos experiencias\, somos vida. \nCOMPRA AQUÍ TU ENTRADA\n  \n 
URL:https://www.fincasolvana.com/evento/somos-lounge-garden-retro-cover-band/
LOCATION:Finca Solvana\, Carretera vieja de Ronda km 86\, Alhauriín de la Torre\, Málaga\, 29130\, Spain
ATTACH;FMTTYPE=image/jpeg:https://www.fincasolvana.com/wp-content/uploads/2025/08/Retro_Cover_Band.jpg
END:VEVENT
BEGIN:VEVENT
DTSTART;TZID=Europe/Madrid:20250912T220000
DTEND;TZID=Europe/Madrid:20250912T233000
DTSTAMP:20260421T100153
CREATED:20250829T160714Z
LAST-MODIFIED:20250911T160043Z
UID:857-1757714400-1757719800@www.fincasolvana.com
SUMMARY:SOMOS – Lounge Garden - Morta Monólogo
DESCRIPTION:SOMOS – Terraza\, música en vivo y copas \nMORTA en directo. \nEl Viernes 12 de septiembre tienes una cita con la comedia. Desde las 22:00 hasta las 00:00\, el monologuista Morta te hará llorar de la risa. \nUn evento al aire libre\, buen ambiente\, copas\, amigos… \n¿Te lo vas a perder? \nPlazas limitadas – consigue tu entrada ya. \nTu primera copa\, incluida con la entrada \nCompra tu entrada anticipada y únete a la experiencia. \nPorque somos música\, somos experiencias\, somos vida. \nCOMPRA AQUÍ TU ENTRADA\n  \n 
URL:https://www.fincasolvana.com/evento/somos-lounge-garden-morta-monologo/
LOCATION:Finca Solvana\, Carretera vieja de Ronda km 86\, Alhauriín de la Torre\, Málaga\, 29130\, Spain
ATTACH;FMTTYPE=image/jpeg:https://www.fincasolvana.com/wp-content/uploads/2025/08/Morta_Monologo.jpg
END:VEVENT
BEGIN:VEVENT
DTSTART;TZID=Europe/Madrid:20250919T220000
DTEND;TZID=Europe/Madrid:20250919T233000
DTSTAMP:20260421T100153
CREATED:20250829T161115Z
LAST-MODIFIED:20250911T155842Z
UID:861-1758319200-1758324600@www.fincasolvana.com
SUMMARY:SOMOS – Lounge Garden - The Vintage Experience
DESCRIPTION:SOMOS – Terraza\, música en vivo y copas \nTHE VINTAGE EXPERIENCE en directo – Vive lo mejor de los años 60! \nEl Viernes 19 de septiembre tienes una cita con la música. Desde las 22:00 hasta las 2:00\, THE VINTAGE EXPERIENCE toma los mandos para llevarte en un viaje sonoro de los años 60 que no olvidarás. \nUn evento al aire libre\, buen ambiente\, copas\, amigos… \n¿Te lo vas a perder? \nPlazas limitadas – consigue tu entrada ya. \nTu primera copa\, incluida con la entrada \nCompra tu entrada anticipada y únete a la experiencia. \nPorque somos música\, somos experiencias\, somos vida. \nCOMPRA AQUÍ TU ENTRADA\n  \n 
URL:https://www.fincasolvana.com/evento/somos-lounge-garden-the-vintage-experience-septiembre/
LOCATION:Finca Solvana\, Carretera vieja de Ronda km 86\, Alhauriín de la Torre\, Málaga\, 29130\, Spain
ATTACH;FMTTYPE=image/jpeg:https://www.fincasolvana.com/wp-content/uploads/2025/08/the_vintage_experience_Septiembre.jpg
END:VEVENT
BEGIN:VEVENT
DTSTART;TZID=Europe/Madrid:20250926T220000
DTEND;TZID=Europe/Madrid:20250926T233000
DTSTAMP:20260421T100153
CREATED:20250829T161726Z
LAST-MODIFIED:20250911T155749Z
UID:864-1758924000-1758929400@www.fincasolvana.com
SUMMARY:SOMOS – Lounge Garden - Cesar Martín - Trío Flamenco
DESCRIPTION:SOMOS – Terraza\, música en vivo y copas \nCESAR MARTÍN en directo \nEl Viernes 26 de septiembre tienes una cita con la música. Desde las 22:00 hasta las 2:00\, CESAR MARTÍN toma los mandos para llevarte en un viaje FLAMENCO que no olvidarás. \nUn evento al aire libre\, buen ambiente\, copas\, amigos… \n¿Te lo vas a perder? \nPlazas limitadas – consigue tu entrada ya. \nTu primera copa\, incluida con la entrada \nCompra tu entrada anticipada y únete a la experiencia. \nPorque somos música\, somos experiencias\, somos vida. \nCOMPRA AQUÍ TU ENTRADA\n  \n 
URL:https://www.fincasolvana.com/evento/somos-lounge-garden-cesar-martin-trio-flamenco/
LOCATION:Finca Solvana\, Carretera vieja de Ronda km 86\, Alhauriín de la Torre\, Málaga\, 29130\, Spain
ATTACH;FMTTYPE=image/jpeg:https://www.fincasolvana.com/wp-content/uploads/2025/08/Cesar_Martin_Trio_Flamenco.jpg
END:VEVENT
END:VCALENDAR